BEGIN:VCALENDAR
VERSION:2.0
PRODID:-//West Ward Farmers Market - ECPv6.15.18//NONSGML v1.0//EN
CALSCALE:GREGORIAN
METHOD:PUBLISH
X-ORIGINAL-URL:https://westwardmarket.com
X-WR-CALDESC:Events for West Ward Farmers Market
REFRESH-INTERVAL;VALUE=DURATION:PT1H
X-Robots-Tag:noindex
X-PUBLISHED-TTL:PT1H
BEGIN:VTIMEZONE
TZID:America/New_York
BEGIN:DAYLIGHT
TZOFFSETFROM:-0500
TZOFFSETTO:-0400
TZNAME:EDT
DTSTART:20250309T070000
END:DAYLIGHT
BEGIN:STANDARD
TZOFFSETFROM:-0400
TZOFFSETTO:-0500
TZNAME:EST
DTSTART:20251102T060000
END:STANDARD
BEGIN:DAYLIGHT
TZOFFSETFROM:-0500
TZOFFSETTO:-0400
TZNAME:EDT
DTSTART:20260308T070000
END:DAYLIGHT
BEGIN:STANDARD
TZOFFSETFROM:-0400
TZOFFSETTO:-0500
TZNAME:EST
DTSTART:20261101T060000
END:STANDARD
BEGIN:DAYLIGHT
TZOFFSETFROM:-0500
TZOFFSETTO:-0400
TZNAME:EDT
DTSTART:20270314T070000
END:DAYLIGHT
BEGIN:STANDARD
TZOFFSETFROM:-0400
TZOFFSETTO:-0500
TZNAME:EST
DTSTART:20271107T060000
END:STANDARD
END:VTIMEZONE
BEGIN:VEVENT
DTSTART;TZID=America/New_York:20260702T170000
DTEND;TZID=America/New_York:20260702T200000
DTSTAMP:20260419T213604
CREATED:20250417T181441Z
LAST-MODIFIED:20260123T173116Z
UID:1227-1783011600-1783022400@westwardmarket.com
SUMMARY:Regular Market Day
DESCRIPTION:
URL:https://westwardmarket.com/event/regular-market-day-4/
LOCATION:West Ward Market\, Community Garden at 10th Street & Pine\, Easton\, PA\, 18042\, United States
END:VEVENT
BEGIN:VEVENT
DTSTART;TZID=America/New_York:20260709T170000
DTEND;TZID=America/New_York:20260709T200000
DTSTAMP:20260419T213604
CREATED:20250417T181504Z
LAST-MODIFIED:20260123T173155Z
UID:1229-1783616400-1783627200@westwardmarket.com
SUMMARY:Regular Market Day
DESCRIPTION:
URL:https://westwardmarket.com/event/regular-market-day-5/
LOCATION:West Ward Market\, Community Garden at 10th Street & Pine\, Easton\, PA\, 18042\, United States
END:VEVENT
BEGIN:VEVENT
DTSTART;TZID=America/New_York:20260716T170000
DTEND;TZID=America/New_York:20260716T200000
DTSTAMP:20260419T213604
CREATED:20260325T190144Z
LAST-MODIFIED:20260325T190144Z
UID:1345-1784221200-1784232000@westwardmarket.com
SUMMARY:Regular Market Day
DESCRIPTION:
URL:https://westwardmarket.com/event/regular-market-day-10/
LOCATION:West Ward Market\, Community Garden at 10th Street & Pine\, Easton\, PA\, 18042\, United States
END:VEVENT
BEGIN:VEVENT
DTSTART;TZID=America/New_York:20260723T170000
DTEND;TZID=America/New_York:20260723T200000
DTSTAMP:20260419T213604
CREATED:20250325T172430Z
LAST-MODIFIED:20260325T194407Z
UID:1163-1784826000-1784836800@westwardmarket.com
SUMMARY:Zucchini 500
DESCRIPTION:Get ready for some FAST FOOD as the 20th Annual Zucchini 500 rolls into town!\n\nThe West Ward Market will provide everything needed – zucchini\, wheels\, axles\, carving equipment and more — to turn the versatile veggie into a stylish\, gravity-fueled racing machine ready to squash the competition on the Zucchini 500 track.\n\nDONATIONS ARE APPRECIATED\n\nA Zuke 500 pit crew will be on hand to assist with car building.  Children 16 and younger can compete in three categories: Sportscar\, Midsize and Monster Truck. Adults can compete in the Adult Midsize heat following the children’s race. Trophies will be awarded to the fastest car in each category and there will be an additional prize for most creative car design. All participants will receive a souvenir racing medallion.\n\nA Zucchini 500 photo station will be available for pictures of racers\, friends and family in a zucchini car.\n\nPlease Note: If you plan on building your car early in the day\, be sure to bring a cooler and ice to keep it healthy form for the big race!
URL:https://westwardmarket.com/event/zucchini-500-2/
LOCATION:West Ward Market\, Community Garden at 10th Street & Pine\, Easton\, PA\, 18042\, United States
ATTACH;FMTTYPE=image/png:https://westwardmarket.com/wp-content/uploads/2025/03/25-scaled.png
END:VEVENT
BEGIN:VEVENT
DTSTART;TZID=America/New_York:20260730T170000
DTEND;TZID=America/New_York:20260730T200000
DTSTAMP:20260419T213604
CREATED:20250411T210709Z
LAST-MODIFIED:20260123T173457Z
UID:1189-1785430800-1785441600@westwardmarket.com
SUMMARY:Regular Market Day
DESCRIPTION:
URL:https://westwardmarket.com/event/regular-market-day-2/
LOCATION:West Ward Market\, Community Garden at 10th Street & Pine\, Easton\, PA\, 18042\, United States
END:VEVENT
END:VCALENDAR