BEGIN:VCALENDAR
VERSION:2.0
PRODID:-//West Ward Farmers Market - ECPv6.15.18//NONSGML v1.0//EN
CALSCALE:GREGORIAN
METHOD:PUBLISH
X-WR-CALNAME:West Ward Farmers Market
X-ORIGINAL-URL:https://westwardmarket.com
X-WR-CALDESC:Events for West Ward Farmers Market
REFRESH-INTERVAL;VALUE=DURATION:PT1H
X-Robots-Tag:noindex
X-PUBLISHED-TTL:PT1H
BEGIN:VTIMEZONE
TZID:America/New_York
BEGIN:DAYLIGHT
TZOFFSETFROM:-0500
TZOFFSETTO:-0400
TZNAME:EDT
DTSTART:20210314T070000
END:DAYLIGHT
BEGIN:STANDARD
TZOFFSETFROM:-0400
TZOFFSETTO:-0500
TZNAME:EST
DTSTART:20211107T060000
END:STANDARD
BEGIN:DAYLIGHT
TZOFFSETFROM:-0500
TZOFFSETTO:-0400
TZNAME:EDT
DTSTART:20220313T070000
END:DAYLIGHT
BEGIN:STANDARD
TZOFFSETFROM:-0400
TZOFFSETTO:-0500
TZNAME:EST
DTSTART:20221106T060000
END:STANDARD
BEGIN:DAYLIGHT
TZOFFSETFROM:-0500
TZOFFSETTO:-0400
TZNAME:EDT
DTSTART:20230312T070000
END:DAYLIGHT
BEGIN:STANDARD
TZOFFSETFROM:-0400
TZOFFSETTO:-0500
TZNAME:EST
DTSTART:20231105T060000
END:STANDARD
BEGIN:DAYLIGHT
TZOFFSETFROM:-0500
TZOFFSETTO:-0400
TZNAME:EDT
DTSTART:20240310T070000
END:DAYLIGHT
BEGIN:STANDARD
TZOFFSETFROM:-0400
TZOFFSETTO:-0500
TZNAME:EST
DTSTART:20241103T060000
END:STANDARD
END:VTIMEZONE
BEGIN:VEVENT
DTSTART;TZID=America/New_York:20230920T150000
DTEND;TZID=America/New_York:20230920T190000
DTSTAMP:20260420T034010
CREATED:20230323T185654Z
LAST-MODIFIED:20230323T185714Z
UID:754-1695222000-1695236400@westwardmarket.com
SUMMARY:Hispanic Heritage Day
DESCRIPTION:Let’s celebrate the vibrant Hispanic culture of the West Ward with food\, drink\, music\, and activities!
URL:https://westwardmarket.com/event/hispanic-heritage-day/
LOCATION:West Ward Market\, Community Garden at 10th Street & Pine\, Easton\, PA\, 18042\, United States
END:VEVENT
BEGIN:VEVENT
DTSTART;TZID=America/New_York:20230809T150000
DTEND;TZID=America/New_York:20230809T190000
DTSTAMP:20260420T034010
CREATED:20230323T184222Z
LAST-MODIFIED:20240307T203026Z
UID:746-1691593200-1691607600@westwardmarket.com
SUMMARY:Berry Jam!
DESCRIPTION:There’s a reason why birds and bears love berries… they’re not only sweet and delicious\, they’re also immune boosting\, antioxidant-packed superstars! Get your jam on at this berrylicious festival of fruit featuring freshly picked blueberries\, blackberries\, raspberries\, elderberries\, gooseberries and more! Sample some berries\, enjoy tasty baked good bursting with berries\, make your own smoothie\, and learn how to make berry-infused vinegars or easy jams and yogurt pops. Brought to you by My Little Farmstand
URL:https://westwardmarket.com/event/fall-planting-day/
LOCATION:West Ward Market\, Community Garden at 10th Street & Pine\, Easton\, PA\, 18042\, United States
END:VEVENT
BEGIN:VEVENT
DTSTART;TZID=America/New_York:20230621T150000
DTEND;TZID=America/New_York:20230621T190000
DTSTAMP:20260420T034010
CREATED:20230323T182226Z
LAST-MODIFIED:20230323T182326Z
UID:731-1687359600-1687374000@westwardmarket.com
SUMMARY:Pollinator Day
DESCRIPTION:Let’s support and celebrate our small but mighty pollinator friends during National Pollinator Week! Our special guest\, the Wildlands Conservancy\, will be present with activities and information to give pollinators the recognition they deserve!
URL:https://westwardmarket.com/event/national-pollinator-week/
LOCATION:West Ward Market\, Community Garden at 10th Street & Pine\, Easton\, PA\, 18042\, United States
END:VEVENT
BEGIN:VEVENT
DTSTART;TZID=America/New_York:20230614T150000
DTEND;TZID=America/New_York:20230614T190000
DTSTAMP:20260420T034010
CREATED:20230323T181712Z
LAST-MODIFIED:20240307T193421Z
UID:729-1686754800-1686769200@westwardmarket.com
SUMMARY:Juneteenth Celebration
DESCRIPTION:Marking the effective end of slavery in the United States\, come celebrate African American emancipation with food\, music and community!
URL:https://westwardmarket.com/event/juneteenth-celebration/
LOCATION:West Ward Market\, Community Garden at 10th Street & Pine\, Easton\, PA\, 18042\, United States
END:VEVENT
BEGIN:VEVENT
DTSTART;TZID=America/New_York:20220921T150000
DTEND;TZID=America/New_York:20220921T190000
DTSTAMP:20260420T034010
CREATED:20220722T212437Z
LAST-MODIFIED:20220722T212442Z
UID:586-1663772400-1663786800@westwardmarket.com
SUMMARY:YMCA Wacky Wednesday
DESCRIPTION:Join YMCA for fun kids’ activities in Cottingham Stadium\, every third Wednesday of the month!
URL:https://westwardmarket.com/event/ymca-wacky-wednesday-2/
LOCATION:West Ward Market\, Community Garden at 10th Street & Pine\, Easton\, PA\, 18042\, United States
CATEGORIES:Market
END:VEVENT
BEGIN:VEVENT
DTSTART;TZID=America/New_York:20220817T150000
DTEND;TZID=America/New_York:20220817T190000
DTSTAMP:20260420T034010
CREATED:20220722T212410Z
LAST-MODIFIED:20220722T212410Z
UID:584-1660748400-1660762800@westwardmarket.com
SUMMARY:YMCA Wacky Wednesday
DESCRIPTION:Join YMCA for fun kids’ activities in Cottingham Stadium\, every third Wednesday of the month!
URL:https://westwardmarket.com/event/ymca-wacky-wednesday/
LOCATION:West Ward Market\, Community Garden at 10th Street & Pine\, Easton\, PA\, 18042\, United States
CATEGORIES:Market
END:VEVENT
BEGIN:VEVENT
DTSTART;TZID=America/New_York:20220803T170000
DTEND;TZID=America/New_York:20220803T180000
DTSTAMP:20260420T034010
CREATED:20220722T212001Z
LAST-MODIFIED:20220729T164947Z
UID:578-1659546000-1659549600@westwardmarket.com
SUMMARY:Explore Easton Walking Tour with Representative Bob Freeman
DESCRIPTION:Join PA state representative Bob Freeman for part one of a West Ward walking tour! Leaving from the Market at 5pm.
URL:https://westwardmarket.com/event/explore-easton-walking-tour-with-representative-bob-freeman/
LOCATION:West Ward Market\, Community Garden at 10th Street & Pine\, Easton\, PA\, 18042\, United States
CATEGORIES:Market
END:VEVENT
BEGIN:VEVENT
DTSTART;TZID=America/New_York:20220803T150000
DTEND;TZID=America/New_York:20220803T190000
DTSTAMP:20260420T034011
CREATED:20220722T212605Z
LAST-MODIFIED:20220722T212605Z
UID:590-1659538800-1659553200@westwardmarket.com
SUMMARY:Craft Workshop with Overtown Media & Arts Center
DESCRIPTION:
URL:https://westwardmarket.com/event/craft-workshop-with-overtown-media-arts-center-2/
LOCATION:West Ward Market\, Community Garden at 10th Street & Pine\, Easton\, PA\, 18042\, United States
CATEGORIES:Market
END:VEVENT
BEGIN:VEVENT
DTSTART;TZID=America/New_York:20220727T150000
DTEND;TZID=America/New_York:20220727T190000
DTSTAMP:20260420T034011
CREATED:20220722T212529Z
LAST-MODIFIED:20220722T212540Z
UID:588-1658934000-1658948400@westwardmarket.com
SUMMARY:Craft Workshop with Overtown Media & Arts Center
DESCRIPTION:
URL:https://westwardmarket.com/event/craft-workshop-with-overtown-media-arts-center/
LOCATION:West Ward Market\, Community Garden at 10th Street & Pine\, Easton\, PA\, 18042\, United States
CATEGORIES:Market
END:VEVENT
END:VCALENDAR